BEGIN:VCALENDAR
VERSION:2.0
CALSCALE:GREGORIAN
BEGIN:VEVENT
DTSTAMP:20260421T163956
DTSTART:20260425T160000
DTEND:20260425T190000
SUMMARY:Ros  Rose: A Botanical Tasting Affair
DESCRIPTION:Event Info: https://www.localwineevents.com/view/event/ros-rose-a-botanical-tasting-affair/999543
LOCATION:2919 Canton St -- 2919 Canton Street Dallas, TX 75226
STATUS:CONFIRMED
SEQUENCE:0
TRANSP:OPAQUE
END:VEVENT
END:VCALENDAR
