BEGIN:VCALENDAR
VERSION:2.0
CALSCALE:GREGORIAN
BEGIN:VEVENT
DTSTAMP:20260421T162004
DTSTART:20260425T150000
DTEND:20260425T160000
SUMMARY:Distillery Tour  Tasting
DESCRIPTION:Event Info: https://www.localwineevents.com/view/event/distillery-tour-tasting/999521
LOCATION:Freeland Spirits -- 2671 NW Vaughn St Portland, OR 97210
STATUS:CONFIRMED
SEQUENCE:0
TRANSP:OPAQUE
END:VEVENT
END:VCALENDAR
