BEGIN:VCALENDAR
VERSION:2.0
CALSCALE:GREGORIAN
BEGIN:VEVENT
DTSTAMP:20260420T043809
DTSTART:20260425T180000
DTEND:20260425T210000
SUMMARY:Portage Earth Day Brewfest: Sip For A Seat 2026
DESCRIPTION:Event Info: https://www.localwineevents.com/view/event/portage-earth-day-brewfest-sip-for-a-seat-2026/999515
LOCATION:Portage Lakefront Open Air Pavilion -- JRCC+XG Portage, Portage Township, IN Portage, IN 46368
STATUS:CONFIRMED
SEQUENCE:0
TRANSP:OPAQUE
END:VEVENT
END:VCALENDAR
