BEGIN:VCALENDAR
VERSION:2.0
CALSCALE:GREGORIAN
BEGIN:VEVENT
DTSTAMP:20260423T110416
DTSTART:20260425T180000
DTEND:20260425T203000
SUMMARY:Wantilan Luau
DESCRIPTION:Event Info: https://www.localwineevents.com/view/event/wantilan-luau/999504
LOCATION:Loews Royal Pacific Resort at Universal Orlando -- 6300 Hollywood Way Orlando, FL 32819
STATUS:CONFIRMED
SEQUENCE:0
TRANSP:OPAQUE
END:VEVENT
END:VCALENDAR
