BEGIN:VCALENDAR
VERSION:2.0
CALSCALE:GREGORIAN
BEGIN:VEVENT
DTSTAMP:20260420T114913
DTSTART:20260425T120000
DTEND:20260425T170000
SUMMARY:10th Annual Shop  Sip Elkhart Lake
DESCRIPTION:Event Info: https://www.localwineevents.com/view/event/10th-annual-shop-sip-elkhart-lake/999499
LOCATION:Elkhart Lake Shops  Galleries -- Elkhart Lake Elkhart Lake, WI 53020
STATUS:CONFIRMED
SEQUENCE:0
TRANSP:OPAQUE
END:VEVENT
END:VCALENDAR
