BEGIN:VCALENDAR
VERSION:2.0
CALSCALE:GREGORIAN
BEGIN:VEVENT
DTSTAMP:20260421T050958
DTSTART:20260425T183000
DTEND:20260425T213000
SUMMARY:Cherry Blossom Evening Dinner Cruise
DESCRIPTION:Event Info: https://www.localwineevents.com/view/event/cherry-blossom-evening-dinner-cruise/999496
LOCATION:City Cruises Washington DC - Pier 4 -- 580 Water Street Southwest Washington, DC 20024
STATUS:CONFIRMED
SEQUENCE:0
TRANSP:OPAQUE
END:VEVENT
END:VCALENDAR
