BEGIN:VCALENDAR
VERSION:2.0
CALSCALE:GREGORIAN
BEGIN:VEVENT
DTSTAMP:20260421T164636
DTSTART:20260425T140000
DTEND:20260425T153000
SUMMARY:Sip  Pour Candle Making Workshop And POP UP Shop! At Landon McKinney
DESCRIPTION:Event Info: https://www.localwineevents.com/view/event/sip-pour-candle-making-workshop-and-pop-up-shop-at-landon-mckinney/999489
LOCATION:Landon Winery - McKinney TX -- 101 North Kentucky Street McKinney, TX 75069
STATUS:CONFIRMED
SEQUENCE:0
TRANSP:OPAQUE
END:VEVENT
END:VCALENDAR
