BEGIN:VCALENDAR
VERSION:2.0
CALSCALE:GREGORIAN
BEGIN:VEVENT
DTSTAMP:20260419T122536
DTSTART:20260425T150000
DTEND:20260425T190000
SUMMARY:Brews  Bites: The Ultimate Coffee  Chocolate Expo
DESCRIPTION:Event Info: https://www.localwineevents.com/view/event/brews-bites-the-ultimate-coffee-chocolate-expo/999486
LOCATION:2417 N MIAMI AVE, Wynwood, 33127 -- 2417 N Miami Ave Miami, FL 33127
STATUS:CONFIRMED
SEQUENCE:0
TRANSP:OPAQUE
END:VEVENT
END:VCALENDAR
