BEGIN:VCALENDAR
VERSION:2.0
CALSCALE:GREGORIAN
BEGIN:VEVENT
DTSTAMP:20260419T122535
DTSTART:20260425T190000
DTEND:20260425T214500
SUMMARY:Divine Dining In Heaven Farm To Table Fundraising Dinner
DESCRIPTION:Event Info: https://www.localwineevents.com/view/event/divine-dining-in-heaven-farm-to-table-fundraising-dinner/999485
LOCATION:21900 SW 157th Ave -- 21900 Southwest 157th Avenue Miami, FL 33170
STATUS:CONFIRMED
SEQUENCE:0
TRANSP:OPAQUE
END:VEVENT
END:VCALENDAR
