BEGIN:VCALENDAR
VERSION:2.0
CALSCALE:GREGORIAN
BEGIN:VEVENT
DTSTAMP:20260420T115735
DTSTART:20260425T160000
DTEND:20260425T180000
SUMMARY:Music And Wine Pairings Party
DESCRIPTION:Event Info: https://www.localwineevents.com/view/event/music-and-wine-pairings-party/999480
LOCATION:1441 Fort Union Blvd -- 1441 Fort Union Boulevard Salt Lake City, UT 84121
STATUS:CONFIRMED
SEQUENCE:0
TRANSP:OPAQUE
END:VEVENT
END:VCALENDAR
