BEGIN:VCALENDAR
VERSION:2.0
CALSCALE:GREGORIAN
BEGIN:VEVENT
DTSTAMP:20260420T095938
DTSTART:20260425T140000
DTEND:20260425T160000
SUMMARY:High Tea At The Dome Bar - 2PM
DESCRIPTION:Event Info: https://www.localwineevents.com/view/event/high-tea-at-the-dome-bar---2pm/999455
LOCATION:Hotel Paso Del Norte, Autograph Collection -- 10 Henry Trost Ct, El Paso, TX EL PASO, TX 79901
STATUS:CONFIRMED
SEQUENCE:0
TRANSP:OPAQUE
END:VEVENT
END:VCALENDAR
