BEGIN:VCALENDAR
VERSION:2.0
CALSCALE:GREGORIAN
BEGIN:VEVENT
DTSTAMP:20260422T222643
DTSTART:20260425T170000
DTEND:20260425T200000
SUMMARY:Bourbon Tasting At The Next Picture Show
DESCRIPTION:Event Info: https://www.localwineevents.com/view/event/bourbon-tasting-at-the-next-picture-show/999446
LOCATION:The Next Picture Show -- 113 W. First St. Dixon, IL 61021
STATUS:CONFIRMED
SEQUENCE:0
TRANSP:OPAQUE
END:VEVENT
END:VCALENDAR
