BEGIN:VCALENDAR
VERSION:2.0
CALSCALE:GREGORIAN
BEGIN:VEVENT
DTSTAMP:20260421T164230
DTSTART:20260425T153000
DTEND:20260425T163000
SUMMARY:Uncorked: Spring Perfect Pairing
DESCRIPTION:Event Info: https://www.localwineevents.com/view/event/uncorked-spring-perfect-pairing/999427
LOCATION:Eataly Dallas -- 8687 North Central Expressway Dallas, TX 75225
STATUS:CONFIRMED
SEQUENCE:0
TRANSP:OPAQUE
END:VEVENT
END:VCALENDAR
