BEGIN:VCALENDAR
VERSION:2.0
CALSCALE:GREGORIAN
BEGIN:VEVENT
DTSTAMP:20260422T233139
DTSTART:20260425T180000
DTEND:20260425T220000
SUMMARY:Night In Berlin  2026
DESCRIPTION:Event Info: https://www.localwineevents.com/view/event/night-in-berlin-2026/999420
LOCATION:German American Society of Central Florida -- 381 Orange Lane Casselberry, FL 32707
STATUS:CONFIRMED
SEQUENCE:0
TRANSP:OPAQUE
END:VEVENT
END:VCALENDAR
