BEGIN:VCALENDAR
VERSION:2.0
CALSCALE:GREGORIAN
BEGIN:VEVENT
DTSTAMP:20260420T045630
DTSTART:20260425T160000
DTEND:20260425T190000
SUMMARY:Dinner With The Chief
DESCRIPTION:Event Info: https://www.localwineevents.com/view/event/dinner-with-the-chief/999412
LOCATION:502 Oak St -- 502 Oak Street Baraboo, WI 53913
STATUS:CONFIRMED
SEQUENCE:0
TRANSP:OPAQUE
END:VEVENT
END:VCALENDAR
