BEGIN:VCALENDAR
VERSION:2.0
CALSCALE:GREGORIAN
BEGIN:VEVENT
DTSTAMP:20260421T164121
DTSTART:20260425T180000
DTEND:20260425T200000
SUMMARY:French Cooking Class: Steak Dinner - French Bistro In Bordeaux
DESCRIPTION:Event Info: https://www.localwineevents.com/view/event/french-cooking-class-steak-dinner---french-bistro-in-bordeaux/999410
LOCATION:My French Recipe -- 3033 West Parker Road Plano, TX 75023
STATUS:CONFIRMED
SEQUENCE:0
TRANSP:OPAQUE
END:VEVENT
END:VCALENDAR
