BEGIN:VCALENDAR
VERSION:2.0
CALSCALE:GREGORIAN
BEGIN:VEVENT
DTSTAMP:20260421T164803
DTSTART:20260425T120000
DTEND:20260425T190000
SUMMARY:Dallas Wine Festival - 40+ Types Of Wine To Try Included With Admission
DESCRIPTION:Event Info: https://www.localwineevents.com/view/event/dallas-wine-festival---40-types-of-wine-to-try-included-with-admission/999395
LOCATION:Venture X Dallas - Braniff Centre -- 7701 Lemmon Avenue Dallas, TX 75209
STATUS:CONFIRMED
SEQUENCE:0
TRANSP:OPAQUE
END:VEVENT
END:VCALENDAR
