BEGIN:VCALENDAR
VERSION:2.0
CALSCALE:GREGORIAN
BEGIN:VEVENT
DTSTAMP:20260421T010611
DTSTART:20260425T140000
DTEND:20260425T180000
SUMMARY:Wine, Shines  Brews In The Wilds
DESCRIPTION:Event Info: https://www.localwineevents.com/view/event/wine-shines-brews-in-the-wilds/999389
LOCATION:Clinton County Fairgrounds -- 98 Racetrack Road Mill Hall, PA 17751
STATUS:CONFIRMED
SEQUENCE:0
TRANSP:OPAQUE
END:VEVENT
END:VCALENDAR
