BEGIN:VCALENDAR
VERSION:2.0
CALSCALE:GREGORIAN
BEGIN:VEVENT
DTSTAMP:20260420T114837
DTSTART:20260425T183000
DTEND:20260425T210000
SUMMARY:Spring Notes: Prix Fixe Dinner At Ever After Wine
DESCRIPTION:Event Info: https://www.localwineevents.com/view/event/spring-notes-prix-fixe-dinner-at-ever-after-wine/999380
LOCATION:Ever After Wine -- 9639 East Stockton Boulevard Elk Grove, CA 95624
STATUS:CONFIRMED
SEQUENCE:0
TRANSP:OPAQUE
END:VEVENT
END:VCALENDAR
