BEGIN:VCALENDAR
VERSION:2.0
CALSCALE:GREGORIAN
BEGIN:VEVENT
DTSTAMP:20260424T062101
DTSTART:20260425T180000
DTEND:20260425T190000
SUMMARY:Uncorked: The Red Wines Of Campania
DESCRIPTION:Event Info: https://www.localwineevents.com/view/event/uncorked-the-red-wines-of-campania/999372
LOCATION:Eataly Silicon Valley -- 2855 Stevens Creek Boulevard San Jose, CA 95128
STATUS:CONFIRMED
SEQUENCE:0
TRANSP:OPAQUE
END:VEVENT
END:VCALENDAR
