BEGIN:VCALENDAR
VERSION:2.0
CALSCALE:GREGORIAN
BEGIN:VEVENT
DTSTAMP:20260420T045304
DTSTART:20260425T160000
DTEND:20260425T190000
SUMMARY:Reedsburg Wine Walk
DESCRIPTION:Event Info: https://www.localwineevents.com/view/event/reedsburg-wine-walk/999367
LOCATION:LK Design Studio -- 170 E MAIN ST REEDSBURG, WI 53959-1936
STATUS:CONFIRMED
SEQUENCE:0
TRANSP:OPAQUE
END:VEVENT
END:VCALENDAR
