BEGIN:VCALENDAR
VERSION:2.0
CALSCALE:GREGORIAN
BEGIN:VEVENT
DTSTAMP:20260421T161928
DTSTART:20260425T100000
DTEND:20260425T170000
SUMMARY:Yamhill-Carlton AVA Spring Tasting 2026
DESCRIPTION:Event Info: https://www.localwineevents.com/view/event/yamhill-carlton-ava-spring-tasting-2026/999363
LOCATION:Abbey Road Farm -- 10280 Northeast Oak Springs Farm Road Carlton, OR 97111
STATUS:CONFIRMED
SEQUENCE:0
TRANSP:OPAQUE
END:VEVENT
END:VCALENDAR
