BEGIN:VCALENDAR
VERSION:2.0
CALSCALE:GREGORIAN
BEGIN:VEVENT
DTSTAMP:20260420T113942
DTSTART:20260425T150000
DTEND:20260425T180000
SUMMARY:2026 Kewaskum Wine Walk
DESCRIPTION:Event Info: https://www.localwineevents.com/view/event/2026-kewaskum-wine-walk/999360
LOCATION:204 1st St -- 204 1st Street Kewaskum, WI 53040
STATUS:CONFIRMED
SEQUENCE:0
TRANSP:OPAQUE
END:VEVENT
END:VCALENDAR
