BEGIN:VCALENDAR
VERSION:2.0
CALSCALE:GREGORIAN
BEGIN:VEVENT
DTSTAMP:20260423T030705
DTSTART:20260425T130000
DTEND:20260425T190000
SUMMARY:Wine Walk Along Flagler Avenue!
DESCRIPTION:Event Info: https://www.localwineevents.com/view/event/wine-walk-along-flagler-avenue/999350
LOCATION:Flagler Avenue -- Flagler Ave. New Smyrna Beach, FL 32169
STATUS:CONFIRMED
SEQUENCE:0
TRANSP:OPAQUE
END:VEVENT
END:VCALENDAR
