BEGIN:VCALENDAR
VERSION:2.0
CALSCALE:GREGORIAN
BEGIN:VEVENT
DTSTAMP:20260424T062100
DTSTART:20260425T113000
DTEND:20260425T150000
SUMMARY:Napa Food  Wine Tour (Downtown)
DESCRIPTION:Event Info: https://www.localwineevents.com/view/event/napa-food-wine-tour-downtown/999347
LOCATION:Archer Hotel Napa -- 1230 1st Street Napa, CA 94559
STATUS:CONFIRMED
SEQUENCE:0
TRANSP:OPAQUE
END:VEVENT
END:VCALENDAR
