BEGIN:VCALENDAR
VERSION:2.0
CALSCALE:GREGORIAN
BEGIN:VEVENT
DTSTAMP:20260424T062102
DTSTART:20260425T150000
DTEND:20260425T170000
SUMMARY:The Cheese And Wine Of Northern Italy
DESCRIPTION:Event Info: https://www.localwineevents.com/view/event/the-cheese-and-wine-of-northern-italy/999337
LOCATION:de Vine Wine  Beer + Food -- 2627 Broadway Redwood City, CA 94063
STATUS:CONFIRMED
SEQUENCE:0
TRANSP:OPAQUE
END:VEVENT
END:VCALENDAR
