BEGIN:VCALENDAR
VERSION:2.0
CALSCALE:GREGORIAN
BEGIN:VEVENT
DTSTAMP:20260422T192817
DTSTART:20260425T180000
DTEND:20260425T200000
SUMMARY:Avella Table: The Pause
DESCRIPTION:Event Info: https://www.localwineevents.com/view/event/avella-table-the-pause/999330
LOCATION:Tempo by Hilton Nashville Downtown -- 127 Rosa L Parks Boulevard Nashville, TN 37203
STATUS:CONFIRMED
SEQUENCE:0
TRANSP:OPAQUE
END:VEVENT
END:VCALENDAR
