BEGIN:VCALENDAR
VERSION:2.0
CALSCALE:GREGORIAN
BEGIN:VEVENT
DTSTAMP:20260420T074528
DTSTART:20260425T120000
DTEND:20260425T140000
SUMMARY:Spring Cupcake And Wine Pairing | Saturday, April 25th 12pm To 2pm
DESCRIPTION:Event Info: https://www.localwineevents.com/view/event/spring-cupcake-and-wine-pairing-saturday-april-25th-12pm-to-2pm/999327
LOCATION:Tippy Creek Winery -- 5920 N 200 E Leesburg, IN 46538
STATUS:CONFIRMED
SEQUENCE:0
TRANSP:OPAQUE
END:VEVENT
END:VCALENDAR
