BEGIN:VCALENDAR
VERSION:2.0
CALSCALE:GREGORIAN
BEGIN:VEVENT
DTSTAMP:20260421T161934
DTSTART:20260425T180000
DTEND:20260425T203000
SUMMARY:Library Dinner
DESCRIPTION:Event Info: https://www.localwineevents.com/view/event/library-dinner/999325
LOCATION:Pomeroy Cellars -- 20902 Northeast Lucia Falls Road Yacolt, WA 98675
STATUS:CONFIRMED
SEQUENCE:0
TRANSP:OPAQUE
END:VEVENT
END:VCALENDAR
