BEGIN:VCALENDAR
VERSION:2.0
CALSCALE:GREGORIAN
BEGIN:VEVENT
DTSTAMP:20260420T175910
DTSTART:20260425T180000
DTEND:20260425T210000
SUMMARY:Wine Pairing Dinner At 1880 Union Hotel X Koehler Winery
DESCRIPTION:Event Info: https://www.localwineevents.com/view/event/wine-pairing-dinner-at-1880-union-hotel-x-koehler-winery/999321
LOCATION:1880 Union Hotel -- 362 Bell Street Los Alamos, CA 93440
STATUS:CONFIRMED
SEQUENCE:0
TRANSP:OPAQUE
END:VEVENT
END:VCALENDAR
