BEGIN:VCALENDAR
VERSION:2.0
CALSCALE:GREGORIAN
BEGIN:VEVENT
DTSTAMP:20260419T122535
DTSTART:20260424T190000
DTEND:20260424T200000
SUMMARY:Make Your Own Chocolate Truffles
DESCRIPTION:Event Info: https://www.localwineevents.com/view/event/make-your-own-chocolate-truffles/999296
LOCATION:1920 SW 8th St -- 1920 Southwest 8th Street Miami, FL 33135
STATUS:CONFIRMED
SEQUENCE:0
TRANSP:OPAQUE
END:VEVENT
END:VCALENDAR
