BEGIN:VCALENDAR
VERSION:2.0
CALSCALE:GREGORIAN
BEGIN:VEVENT
DTSTAMP:20260419T122536
DTSTART:20260424T130000
DTEND:20260424T150000
SUMMARY:Latte Art Basics- Miami
DESCRIPTION:Event Info: https://www.localwineevents.com/view/event/latte-art-basics--miami/999283
LOCATION:Counter Culture Coffee Miami -- 7450 N Miami Avenue Miami, FL 33150
STATUS:CONFIRMED
SEQUENCE:0
TRANSP:OPAQUE
END:VEVENT
END:VCALENDAR
