BEGIN:VCALENDAR
VERSION:2.0
CALSCALE:GREGORIAN
BEGIN:VEVENT
DTSTAMP:20260419T122532
DTSTART:20260424T100000
DTEND:20260424T130000
SUMMARY:Miami Like A Local With Food  Drinks Tour
DESCRIPTION:Event Info: https://www.localwineevents.com/view/event/miami-like-a-local-with-food-drinks-tour/999281
LOCATION:Meet at Art Deco Welcome Center -- 1001 Ocean Drive Miami Beach, FL 33139
STATUS:CONFIRMED
SEQUENCE:0
TRANSP:OPAQUE
END:VEVENT
END:VCALENDAR
