BEGIN:VCALENDAR
VERSION:2.0
CALSCALE:GREGORIAN
BEGIN:VEVENT
DTSTAMP:20260419T122533
DTSTART:20260424T180000
DTEND:20260424T183000
SUMMARY:Spirits  Spice Boca  - Tequila Experiences
DESCRIPTION:Event Info: https://www.localwineevents.com/view/event/spirits-spice-boca---tequila-experiences/999249
LOCATION:Spirits  Spice | Boca Raton -- 314 Plaza Real Boca Raton, FL 33432
STATUS:CONFIRMED
SEQUENCE:0
TRANSP:OPAQUE
END:VEVENT
END:VCALENDAR
