BEGIN:VCALENDAR
VERSION:2.0
CALSCALE:GREGORIAN
BEGIN:VEVENT
DTSTAMP:20260421T161759
DTSTART:20260424T100000
DTEND:20260424T160000
SUMMARY:14th  Annual Solar Wine Sun-Lite Tour
DESCRIPTION:Event Info: https://www.localwineevents.com/view/event/14th-annual-solar-wine-sun-lite-tour/999243
LOCATION:Elk Cove Vineyards -- 27751 Northwest Olson Road Gaston, OR 97119
STATUS:CONFIRMED
SEQUENCE:0
TRANSP:OPAQUE
END:VEVENT
END:VCALENDAR
