BEGIN:VCALENDAR
VERSION:2.0
CALSCALE:GREGORIAN
BEGIN:VEVENT
DTSTAMP:20260419T122530
DTSTART:20260424T180000
DTEND:20260424T190000
SUMMARY:Wine  Bites: Roman Pairings
DESCRIPTION:Event Info: https://www.localwineevents.com/view/event/wine-bites-roman-pairings/999204
LOCATION:Eataly Aventura -- 19501 Biscayne Boulevard Aventura, FL 33180
STATUS:CONFIRMED
SEQUENCE:0
TRANSP:OPAQUE
END:VEVENT
END:VCALENDAR
