BEGIN:VCALENDAR
VERSION:2.0
CALSCALE:GREGORIAN
BEGIN:VEVENT
DTSTAMP:20260424T062059
DTSTART:20260424T160000
DTEND:20260424T170000
SUMMARY:Zero-Proof Tasting Experience At Sipeos
DESCRIPTION:Event Info: https://www.localwineevents.com/view/event/zero-proof-tasting-experience-at-sipeos/999199
LOCATION:Sipeos Restaurant  Bar -- 126 Broadway Lane Walnut Creek, CA 94596
STATUS:CONFIRMED
SEQUENCE:0
TRANSP:OPAQUE
END:VEVENT
END:VCALENDAR
