BEGIN:VCALENDAR
VERSION:2.0
CALSCALE:GREGORIAN
BEGIN:VEVENT
DTSTAMP:20260420T113943
DTSTART:20260424T180000
DTEND:20260424T200000
SUMMARY:Make Epic Thai Curry - Cooking Class In Sacramento | Classpop!
DESCRIPTION:Event Info: https://www.localwineevents.com/view/event/make-epic-thai-curry---cooking-class-in-sacramento-classpop/999190
LOCATION:Classy Hippie -- 3200 Broadway Sacramento, CA 95817
STATUS:CONFIRMED
SEQUENCE:0
TRANSP:OPAQUE
END:VEVENT
END:VCALENDAR
