BEGIN:VCALENDAR
VERSION:2.0
CALSCALE:GREGORIAN
BEGIN:VEVENT
DTSTAMP:20260421T050924
DTSTART:20260424T180000
DTEND:20260424T210000
SUMMARY:Sip And Support 2026
DESCRIPTION:Event Info: https://www.localwineevents.com/view/event/sip-and-support-2026/999168
LOCATION:Holy Redeemer, College Park -- 4902 Berwyn Road College Park, MD 20740
STATUS:CONFIRMED
SEQUENCE:0
TRANSP:OPAQUE
END:VEVENT
END:VCALENDAR
