BEGIN:VCALENDAR
VERSION:2.0
CALSCALE:GREGORIAN
BEGIN:VEVENT
DTSTAMP:20260419T122602
DTSTART:20260424T183000
DTEND:20260424T193000
SUMMARY:Master Wine Class At The Miami Beach EDITION
DESCRIPTION:Event Info: https://www.localwineevents.com/view/event/master-wine-class-at-the-miami-beach-edition/999164
LOCATION:Matador Room At The Miami Beach EDITION -- 2901 Collins Avenue Miami Beach, FL 33140
STATUS:CONFIRMED
SEQUENCE:0
TRANSP:OPAQUE
END:VEVENT
END:VCALENDAR
