BEGIN:VCALENDAR
VERSION:2.0
CALSCALE:GREGORIAN
BEGIN:VEVENT
DTSTAMP:20260424T062100
DTSTART:20260424T180000
DTEND:20260424T190000
SUMMARY:Uncorked: Prosecco 101-The 5 Styles Of Prosecco
DESCRIPTION:Event Info: https://www.localwineevents.com/view/event/uncorked-prosecco-101-the-5-styles-of-prosecco/999161
LOCATION:Eataly Silicon Valley -- 2855 Stevens Creek Boulevard San Jose, CA 95128
STATUS:CONFIRMED
SEQUENCE:0
TRANSP:OPAQUE
END:VEVENT
END:VCALENDAR
