BEGIN:VCALENDAR
VERSION:2.0
CALSCALE:GREGORIAN
BEGIN:VEVENT
DTSTAMP:20260421T164732
DTSTART:20260424T190000
DTEND:20260424T220000
SUMMARY:Bestie Bus Wine Tour (Fort Worth, TX)
DESCRIPTION:Event Info: https://www.localwineevents.com/view/event/bestie-bus-wine-tour-fort-worth-tx/999150
LOCATION:Bestie Bus Tours -- 6401 NE Loop 820 N Richland Hills, TX 76180
STATUS:CONFIRMED
SEQUENCE:0
TRANSP:OPAQUE
END:VEVENT
END:VCALENDAR
