BEGIN:VCALENDAR
VERSION:2.0
CALSCALE:GREGORIAN
BEGIN:VEVENT
DTSTAMP:20260424T062059
DTSTART:20260424T173000
DTEND:20260424T183000
SUMMARY:NVC Estate Winery Friday Tasting Series
DESCRIPTION:Event Info: https://www.localwineevents.com/view/event/nvc-estate-winery-friday-tasting-series/999148
LOCATION:Napa Valley College Wine Education Center -- 2277 Napa Vallejo Highway Napa, CA 94558
STATUS:CONFIRMED
SEQUENCE:0
TRANSP:OPAQUE
END:VEVENT
END:VCALENDAR
