BEGIN:VCALENDAR
VERSION:2.0
CALSCALE:GREGORIAN
BEGIN:VEVENT
DTSTAMP:20260422T173356
DTSTART:20260424T190000
DTEND:20260424T210000
SUMMARY:Sensory Dinner A Feast For Your Senses April 24
DESCRIPTION:Event Info: https://www.localwineevents.com/view/event/sensory-dinner-a-feast-for-your-senses-april-24/999141
LOCATION:Nectar Catering and Events -- 120 North Stevens Street Spokane, WA 99201
STATUS:CONFIRMED
SEQUENCE:0
TRANSP:OPAQUE
END:VEVENT
END:VCALENDAR
