BEGIN:VCALENDAR
VERSION:2.0
CALSCALE:GREGORIAN
BEGIN:VEVENT
DTSTAMP:20260420T114837
DTSTART:20260424T170000
DTEND:20260424T200000
SUMMARY:Sip The Sierras - Wine Tasting On The Terrace
DESCRIPTION:Event Info: https://www.localwineevents.com/view/event/sip-the-sierras---wine-tasting-on-the-terrace/999127
LOCATION:7337 Murieta Drive, Rancho Murieta, CA, USA -- 7337 Murieta Drive Rancho Murieta, CA 95683
STATUS:CONFIRMED
SEQUENCE:0
TRANSP:OPAQUE
END:VEVENT
END:VCALENDAR
