BEGIN:VCALENDAR
VERSION:2.0
CALSCALE:GREGORIAN
BEGIN:VEVENT
DTSTAMP:20260423T030628
DTSTART:20260424T183000
DTEND:20260424T203000
SUMMARY:Romantic Luxury Dinner On The Beach
DESCRIPTION:Event Info: https://www.localwineevents.com/view/event/romantic-luxury-dinner-on-the-beach/999105
LOCATION:Flagler Av Beach Access -- 1005 Flagler Avenue New Smyrna Beach, FL 32169
STATUS:CONFIRMED
SEQUENCE:0
TRANSP:OPAQUE
END:VEVENT
END:VCALENDAR
