BEGIN:VCALENDAR
VERSION:2.0
CALSCALE:GREGORIAN
BEGIN:VEVENT
DTSTAMP:20260420T175543
DTSTART:20260424T150000
DTEND:20260426T120000
SUMMARY:Wine Weekend Experience Featuring Koehler Winery
DESCRIPTION:Event Info: https://www.localwineevents.com/view/event/wine-weekend-experience-featuring-koehler-winery/999103
LOCATION:1880 Union Hotel -- 362 Bell Street Los Alamos, CA 93440
STATUS:CONFIRMED
SEQUENCE:0
TRANSP:OPAQUE
END:VEVENT
END:VCALENDAR
