BEGIN:VCALENDAR
VERSION:2.0
CALSCALE:GREGORIAN
BEGIN:VEVENT
DTSTAMP:20260420T074429
DTSTART:20260424T180000
DTEND:20260424T200000
SUMMARY:Wine Dinner Series: The French Table
DESCRIPTION:Event Info: https://www.localwineevents.com/view/event/wine-dinner-series-the-french-table/999094
LOCATION:Vintage Inn at Veritas Estate Winery -- 7073 Baseline Road South Haven, MI 49090
STATUS:CONFIRMED
SEQUENCE:0
TRANSP:OPAQUE
END:VEVENT
END:VCALENDAR
