BEGIN:VCALENDAR
VERSION:2.0
CALSCALE:GREGORIAN
BEGIN:VEVENT
DTSTAMP:20260420T114816
DTSTART:20260828T183000
DTEND:20260828T193000
SUMMARY:WOO GIRL! Mokelumne Sturgeon Moon Soundbath
DESCRIPTION:Event Info: https://www.localwineevents.com/view/event/woo-girl-mokelumne-sturgeon-moon-soundbath/999086
LOCATION:WOO GIRL! Cellars -- 11070 E Woodbridge Rd Acampo, CA 95220
STATUS:CONFIRMED
SEQUENCE:0
TRANSP:OPAQUE
END:VEVENT
END:VCALENDAR
