BEGIN:VCALENDAR
VERSION:2.0
CALSCALE:GREGORIAN
BEGIN:VEVENT
DTSTAMP:20260420T115641
DTSTART:20260728T180000
DTEND:20260728T190000
SUMMARY:WOO GIRL! Mokelumne Buck Moon Soundbath
DESCRIPTION:Event Info: https://www.localwineevents.com/view/event/woo-girl-mokelumne-buck-moon-soundbath/999084
LOCATION:WOO GIRL! Cellars -- 11070 E Woodbridge Rd Acampo, CA 95220
STATUS:CONFIRMED
SEQUENCE:0
TRANSP:OPAQUE
END:VEVENT
END:VCALENDAR
